BEGIN:VCALENDAR
VERSION:2.0
PRODID:-//༄༄།བོད་ཀྱི་སོན་རྩ།   - ECPv6.15.20//NONSGML v1.0//EN
CALSCALE:GREGORIAN
METHOD:PUBLISH
X-WR-CALNAME:༄༄།བོད་ཀྱི་སོན་རྩ།  
X-ORIGINAL-URL:https://seedsoftibet.org/bo
X-WR-CALDESC:Events for ༄༄།བོད་ཀྱི་སོན་རྩ།  
REFRESH-INTERVAL;VALUE=DURATION:PT1H
X-Robots-Tag:noindex
X-PUBLISHED-TTL:PT1H
BEGIN:VTIMEZONE
TZID:UTC
BEGIN:STANDARD
TZOFFSETFROM:+0000
TZOFFSETTO:+0000
TZNAME:UTC
DTSTART:20250101T000000
END:STANDARD
END:VTIMEZONE
BEGIN:VEVENT
DTSTART;TZID=UTC:20260404T190000
DTEND;TZID=UTC:20260404T210000
DTSTAMP:20260423T221823
CREATED:20260402T160519Z
LAST-MODIFIED:20260402T160752Z
UID:1988-1775329200-1775336400@seedsoftibet.org
SUMMARY:Prayer Service in Memory of Ngari Rinpoche
DESCRIPTION:མཆོད་འབུལ་སྨོན་ལམ།༧སྐུའི་གཅུང་པོ་མངའ་རིས་རིན་པོ་ཆེ་མཆོག་གི་དགོངས་རྫོགས་མཆོད་འབུལ་སྨོན་ལམ།ཚེས་གྲངས། ཕྱི་ལོ་ ༢༠༢༦ ཟླ་ ༤ ཚེས་ ༤གཟའ། སྤེན་པ།དུས་ཚོད། དགོངས་མོ་ཆུ་ཚོད་ ༧ — ༩ཚོགས་ཡུལ། Prayer Service in Memory of Ngari RinpocheDate : April 4\, 2026Day : SaturdayTime : 7PM-9PM ESTLocation : 37 Vreeland Ave\, East Rutherford NJ 07073
URL:https://seedsoftibet.org/bo/event/prayer-service-in-memory-of-ngari-rinpoche/
LOCATION:East Rutherford Community Center\, 37 Vreeland Ave\, East Rutherford\, NJ\, 07073-1821\, United States
ATTACH;FMTTYPE=image/png:https://seedsoftibet.org/wp-content/uploads/2026/04/download.png
END:VEVENT
BEGIN:VEVENT
DTSTART;VALUE=DATE:20260228
DTEND;VALUE=DATE:20260301
DTSTAMP:20260423T221823
CREATED:20260122T224131Z
LAST-MODIFIED:20260122T224650Z
UID:1413-1772236800-1772323199@seedsoftibet.org
SUMMARY:Tibetan New Year (Losar) Event
DESCRIPTION:February 28\, 2026: Losar Celebration\, Community gathering & Cultural performing
URL:https://seedsoftibet.org/bo/event/tibetan-new-year-losar-event/
LOCATION:Civic Center\, 37 Vreeland Ave\, East Rutherford\, NJ\, 07073\, United States
ATTACH;FMTTYPE=image/jpeg:https://seedsoftibet.org/wp-content/uploads/2026/01/Losar-2022-2.jpg
END:VEVENT
BEGIN:VEVENT
DTSTART;VALUE=DATE:20260218
DTEND;VALUE=DATE:20260219
DTSTAMP:20260423T221823
CREATED:20260122T222659Z
LAST-MODIFIED:20260124T220255Z
UID:1401-1771372800-1771459199@seedsoftibet.org
SUMMARY:Tibetan New Year (Losar) Day 1
DESCRIPTION:February 18\, 2026 \nJoin us as we celebrate Losar\, the Tibetan New Year\, with visits to sacred temples in the area. On Day One\, we will: \n\n\n Visit Nitsan Buddhist Temple – Start the day with prayers and offerings. \n\n\n Visit Rashi Gempil Ling Buddhist Temple – Continue our journey with traditional rituals. \n\n\n Visit Tashi Lhunpo Buddhist Temple – Conclude the temple tour and gather for a community meetup. \n\n\nMeeting Point: Everyone will meet at Tashi Lhunpo Buddhist Temple at the end for refreshments\, photos\, and celebration. \nFebruary 28\, 2026: Losar Celebration\, Community gathering & Cultural performing
URL:https://seedsoftibet.org/bo/event/tibetan-new-year-losar-day-1/
LOCATION:Tashi Lhunpo Buddhist Temple\, 12 Kalmuk Rd\, Howell Township\, NJ\, 07731\, United States
ATTACH;FMTTYPE=image/jpeg:https://seedsoftibet.org/wp-content/uploads/2026/01/pexels-photo-31579504-31579504-scaled.jpg
END:VEVENT
END:VCALENDAR